BEGIN:VCALENDAR
VERSION:2.0
PRODID:-//wp-events-plugin.com//7.2.3.1//EN
TZID:Asia/Tokyo
X-WR-TIMEZONE:Asia/Tokyo
BEGIN:VEVENT
UID:246@itoigawa-jade.com
DTSTART;TZID=Asia/Tokyo:20190421T110000
DTEND;TZID=Asia/Tokyo:20190421T150000
DTSTAMP:20190320T032925Z
URL:https://www.itoigawa-jade.com/events/%e6%97%a5%e5%85%89%e5%af%ba%e3%81
 %91%e3%82%93%e3%81%8b%e7%a5%ad%e3%82%8a-3/
SUMMARY:日光寺けんか祭り
DESCRIPTION:一の宮けんか祭りの1週間後に行われる日光寺
 けんか祭りは、真言宗日光寺と白山神社の祭礼が同時
 に行われる神仏習合のお祭りです。\n神輿同士のぶつか
 る音が派手に響き、観客は担ぎ手に声援を送ります。
 担ぎ棒を地面について、壊れるほどに神輿を思い切り
 ぶつけ合います。\n\n日時：平成31年4月21日（日）\n\n祭
 典神事　　　　　　　11時00分～\n\n御神輿のぶつかり合
 い　12時30分頃～\n\n※時間は目安です。前後する場合が
 あります。\n\n会場：日光寺（糸魚川市日光寺377）\n\nア
 クセス：北陸自動車道糸魚川ＩＣより車で20分、糸魚川
 駅からバスで20分\n\n問合せ：糸魚川市観光案内所　TEL:0
 25-553-1785
ATTACH;FMTTYPE=image/jpeg:https://www.itoigawa-jade.com/wp-content/uploads
 /2016/03/nikkojikenka.jpg
CATEGORIES:お祭り
LOCATION:日光寺\, 日光寺377\, 糸魚川市\, 新潟県\, 北陸\, 日
 本
GEO:37.0303977;137.937856
X-APPLE-STRUCTURED-LOCATION;VALUE=URI;X-ADDRESS=日光寺377\, 糸魚川市
 \, 新潟県\, 北陸\, 日本;X-APPLE-RADIUS=100;X-TITLE=日光寺:geo:37
 .0303977,137.937856
END:VEVENT
BEGIN:VTIMEZONE
TZID:Asia/Tokyo
X-LIC-LOCATION:Asia/Tokyo
BEGIN:STANDARD
DTSTART:20180421T110000
TZOFFSETFROM:+0900
TZOFFSETTO:+0900
TZNAME:JST
END:STANDARD
END:VTIMEZONE
END:VCALENDAR