BEGIN:VCALENDAR
VERSION:2.0
PRODID:-//wp-events-plugin.com//7.2.3.1//EN
TZID:Asia/Tokyo
X-WR-TIMEZONE:Asia/Tokyo
BEGIN:VEVENT
UID:257@itoigawa-jade.com
DTSTART;TZID=Asia/Tokyo:20190803T100000
DTEND;TZID=Asia/Tokyo:20190803T210000
DTSTAMP:20190802T093110Z
URL:https://www.itoigawa-jade.com/events/%e7%ac%ac%ef%bc%94%ef%bc%94%e5%9b
 %9e%e7%b3%b8%e9%ad%9a%e5%b7%9d%e3%81%8a%e3%81%be%e3%82%93%e3%81%9f%e7%a5%a
 d%e3%82%8a/
SUMMARY:第４４回糸魚川おまんた祭り
DESCRIPTION:
ATTACH;FMTTYPE=image/jpeg:https://www.itoigawa-jade.com/wp-content/uploads
 /2019/08/4B266BD4-D4D2-4A5A-8D06-857740EB1A18.jpeg
CATEGORIES:お祭り,お知らせ
LOCATION:糸魚川駅日本海口\, 大町1\, 糸魚川市\, 新潟県\, 
 北陸\, 日本
GEO:37.043934269265804;137.86132839790037
X-APPLE-STRUCTURED-LOCATION;VALUE=URI;X-ADDRESS=大町1\, 糸魚川市\, 
 新潟県\, 北陸\, 日本;X-APPLE-RADIUS=100;X-TITLE=糸魚川駅日本
 海口:geo:37.043934269265804,137.86132839790037
END:VEVENT
BEGIN:VTIMEZONE
TZID:Asia/Tokyo
X-LIC-LOCATION:Asia/Tokyo
BEGIN:STANDARD
DTSTART:20180803T100000
TZOFFSETFROM:+0900
TZOFFSETTO:+0900
TZNAME:JST
END:STANDARD
END:VTIMEZONE
END:VCALENDAR