BEGIN:VCALENDAR
VERSION:2.0
PRODID:-//wp-events-plugin.com//7.2.3.1//EN
TZID:Asia/Tokyo
X-WR-TIMEZONE:Asia/Tokyo
BEGIN:VEVENT
UID:34@itoigawa-jade.com
DTSTART;TZID=Asia/Tokyo:20160131T100000
DTEND;TZID=Asia/Tokyo:20160131T140000
DTSTAMP:20160128T051352Z
URL:https://www.itoigawa-jade.com/events/%e7%b3%b8%e9%ad%9a%e5%b7%9d%e8%8d
 %92%e6%b3%a2%e3%81%82%e3%82%93%e3%81%93%e3%81%86%e7%a5%ad%e3%82%8a%e3%80%8
 8%e8%83%bd%e7%94%9f%e4%bc%9a%e5%a0%b4%e3%80%89/
SUMMARY:糸魚川荒波あんこう祭り〈能生会場〉
DESCRIPTION:荒波あんこうフェアの詳細はこちら\n\n無料海
 鮮シャトルバスの詳細はこちら\n\n日本海の冬の味覚ア
 ンコウ。豪快大鍋あんこう汁のほか、つるし切り実演
 、海産物の網焼きコーナーや特産販売コーナーなど美
 味しさいっぱいのイベントです。\n\n日時：平成28年1月3
 1日(日)\n会場：マリンドリーム能生特設会場\n問合せ：
 マリンドリーム能生　025-566-3456\n\nスケジュール\n10：00
 　あんこう汁販売500円※1000杯限定\n11：30　あんこう目
 方でQ\n12：30　あんこうつるし切り実演
ATTACH;FMTTYPE=image/jpeg:https://www.itoigawa-jade.com/wp-content/uploads
 /2015/11/IMG_0110.png
CATEGORIES:イベント
LOCATION:道の駅　マリンドリーム能生\, 能生小泊3596-2\, 糸
 魚川市\, 新潟県\, 949-1351\, 北陸\, 日本
GEO:37.11342870000001;138.00315239999998
X-APPLE-STRUCTURED-LOCATION;VALUE=URI;X-ADDRESS=能生小泊3596-2\, 糸魚
 川市\, 新潟県\, 949-1351\, 北陸\, 日本;X-APPLE-RADIUS=100;X-TITLE
 =道の駅　マリンドリーム能生:geo:37.11342870000001,138.0031523
 9999998
END:VEVENT
BEGIN:VTIMEZONE
TZID:Asia/Tokyo
X-LIC-LOCATION:Asia/Tokyo
BEGIN:STANDARD
DTSTART:20150131T100000
TZOFFSETFROM:+0900
TZOFFSETTO:+0900
TZNAME:JST
END:STANDARD
END:VTIMEZONE
END:VCALENDAR