BEGIN:VCALENDAR
VERSION:2.0
PRODID:-//wp-events-plugin.com//7.2.3.1//EN
TZID:Asia/Tokyo
X-WR-TIMEZONE:Asia/Tokyo
BEGIN:VEVENT
UID:247@itoigawa-jade.com
DTSTART;TZID=Asia/Tokyo:20190424T073000
DTEND;TZID=Asia/Tokyo:20190424T180000
DTSTAMP:20190320T033034Z
URL:https://www.itoigawa-jade.com/events/%e8%83%bd%e7%94%9f%e7%99%bd%e5%b1
 %b1%e7%a5%9e%e7%a4%be%e6%98%a5%e5%ad%a3%e5%a4%a7%e7%a5%ad-4/
SUMMARY:能生白山神社春季大祭
DESCRIPTION:毎年4月24日に行われる大祭で奉納される舞楽は
 、市内に4つある国の重要無形民俗文化財の一つ。室町
 時代の中頃には大阪四天王寺から伝承され、舞楽が奉
 納されていたといわれている。稚児が主役の舞いが多
 く、近郷近在の人や遠来の客を神遊びの世界へと魅了
 する。最後の陵王の舞は圧巻。\n\n日時：平成31年4月24
 日（水）\n\n獅子舞　9：00頃～\n神輿のお走り・大祭　12
 ：00頃～\n舞楽奉納　13：00頃～\n\nスケジュール\n\n 	社
 参の行列（区民会館から神社へ）　07:30\n 	御庭祓（舞
 台修祓）　　　　　　　　08:00頃\n 	七度半の使い（拝
 殿前）　　　　　　08:00頃\n 	御神嚮の打出し（獅子の
 出の舞）　　09:00頃\n 	御神嚮の打止め（お走り）　　
 　　　12:00頃\n 	供饌進（御饌上げ）\n 	黙礼の式（秋葉
 神社前）\n 	大祭（御旅所）\n 	舞楽十一曲上演　　　　
 　　　　　　13:00頃\n 	神霊還御（御旅帰り）\n 	下向の
 行列　　　　　　　　　　　　18:00頃\n\n※時間は目安
 です。前後する場合があります。\n\n会場：能生白山神
 社\n\nアクセス：えちごトキめき鉄道能生駅から徒歩20
 分\n北陸自動車道　能生ＩＣから車で5分\n\n問合せ：糸
 魚川市文化振興課　TEL:025-552-1511（代表）
ATTACH;FMTTYPE=image/jpeg:https://www.itoigawa-jade.com/wp-content/uploads
 /2016/04/nouhakusan_springfestivals_1.jpg
CATEGORIES:お祭り
LOCATION:能生白山神社\, 能生7239\, 糸魚川市\, 新潟県\, 949-1
 352\, 北陸\, 日本
GEO:37.106857660922365;137.99419250904543
X-APPLE-STRUCTURED-LOCATION;VALUE=URI;X-ADDRESS=能生7239\, 糸魚川市\,
  新潟県\, 949-1352\, 北陸\, 日本;X-APPLE-RADIUS=100;X-TITLE=能生
 白山神社:geo:37.106857660922365,137.99419250904543
END:VEVENT
BEGIN:VTIMEZONE
TZID:Asia/Tokyo
X-LIC-LOCATION:Asia/Tokyo
BEGIN:STANDARD
DTSTART:20180424T073000
TZOFFSETFROM:+0900
TZOFFSETTO:+0900
TZNAME:JST
END:STANDARD
END:VTIMEZONE
END:VCALENDAR